BEGIN:VCALENDAR
VERSION:2.0
PRODID:http://www.kufer.de/kuferweb / DE
METHOD:PUBLISH
CALSCALE:GREGORIAN
X-WR-TIMEZONE:Europe/Berlin
BEGIN:VTIMEZONE
TZID:Europe/Berlin
X-LIC-LOCATION:Europe/Berlin
BEGIN:DAYLIGHT
TZOFFSETFROM:+0100
TZOFFSETTO:+0200
TZNAME:CEST
DTSTART;TZID=Europe/Berlin:19700329T020000
RRULE:FREQ=YEARLY;INTERVAL=1;BYDAY=-1SU;BYMONTH=3
END:DAYLIGHT
BEGIN:STANDARD
TZOFFSETFROM:+0200
TZOFFSETTO:+0100
TZNAME:CET
DTSTART;TZID=Europe/Berlin:19701025T030000
RRULE:FREQ=YEARLY;INTERVAL=1;BYDAY=-1SU;BYMONTH=10
END:STANDARD
END:VTIMEZONE
BEGIN:VEVENT
DTSTAMP:20260422T092614
DTSTART;TZID=Europe/Berlin:20260910T144500
DTEND;TZID=Europe/Berlin:20260910T161500
UID:262SE3133-20260910T144500@VHSZWECKVERBAND VHS HANNOVER LAND
SUMMARY:Englisch für Fortgeschrittene (A2+): Seniorenkurs (262SE3133) 
LOCATION:Neustadt; VHS (am Schloss Landestrost), OG 02, Schlossstr. 1, 31535 Neustadt a. Rbge.
END:VEVENT
BEGIN:VEVENT
DTSTAMP:20260422T092614
DTSTART;TZID=Europe/Berlin:20260917T144500
DTEND;TZID=Europe/Berlin:20260917T161500
UID:262SE3133-20260917T144500@VHSZWECKVERBAND VHS HANNOVER LAND
SUMMARY:Englisch für Fortgeschrittene (A2+): Seniorenkurs (262SE3133) 
LOCATION:Neustadt; VHS (am Schloss Landestrost), OG 04, Schlossstr. 1, 31535 Neustadt a. Rbge.
END:VEVENT
BEGIN:VEVENT
DTSTAMP:20260422T092614
DTSTART;TZID=Europe/Berlin:20260924T144500
DTEND;TZID=Europe/Berlin:20260924T161500
UID:262SE3133-20260924T144500@VHSZWECKVERBAND VHS HANNOVER LAND
SUMMARY:Englisch für Fortgeschrittene (A2+): Seniorenkurs (262SE3133) 
LOCATION:Neustadt; VHS (am Schloss Landestrost), OG 02, Schlossstr. 1, 31535 Neustadt a. Rbge.
END:VEVENT
BEGIN:VEVENT
DTSTAMP:20260422T092614
DTSTART;TZID=Europe/Berlin:20261001T144500
DTEND;TZID=Europe/Berlin:20261001T161500
UID:262SE3133-20261001T144500@VHSZWECKVERBAND VHS HANNOVER LAND
SUMMARY:Englisch für Fortgeschrittene (A2+): Seniorenkurs (262SE3133) 
LOCATION:Neustadt; VHS (am Schloss Landestrost), OG 02, Schlossstr. 1, 31535 Neustadt a. Rbge.
END:VEVENT
BEGIN:VEVENT
DTSTAMP:20260422T092614
DTSTART;TZID=Europe/Berlin:20261008T144500
DTEND;TZID=Europe/Berlin:20261008T161500
UID:262SE3133-20261008T144500@VHSZWECKVERBAND VHS HANNOVER LAND
SUMMARY:Englisch für Fortgeschrittene (A2+): Seniorenkurs (262SE3133) 
LOCATION:Neustadt; VHS (am Schloss Landestrost), OG 02, Schlossstr. 1, 31535 Neustadt a. Rbge.
END:VEVENT
BEGIN:VEVENT
DTSTAMP:20260422T092614
DTSTART;TZID=Europe/Berlin:20261029T144500
DTEND;TZID=Europe/Berlin:20261029T161500
UID:262SE3133-20261029T144500@VHSZWECKVERBAND VHS HANNOVER LAND
SUMMARY:Englisch für Fortgeschrittene (A2+): Seniorenkurs (262SE3133) 
LOCATION:Neustadt; VHS (am Schloss Landestrost), OG 01, Schlossstr. 1, 31535 Neustadt a. Rbge.
END:VEVENT
BEGIN:VEVENT
DTSTAMP:20260422T092614
DTSTART;TZID=Europe/Berlin:20261105T144500
DTEND;TZID=Europe/Berlin:20261105T161500
UID:262SE3133-20261105T144500@VHSZWECKVERBAND VHS HANNOVER LAND
SUMMARY:Englisch für Fortgeschrittene (A2+): Seniorenkurs (262SE3133) 
LOCATION:Neustadt; VHS (am Schloss Landestrost), OG 01, Schlossstr. 1, 31535 Neustadt a. Rbge.
END:VEVENT
BEGIN:VEVENT
DTSTAMP:20260422T092614
DTSTART;TZID=Europe/Berlin:20261112T144500
DTEND;TZID=Europe/Berlin:20261112T161500
UID:262SE3133-20261112T144500@VHSZWECKVERBAND VHS HANNOVER LAND
SUMMARY:Englisch für Fortgeschrittene (A2+): Seniorenkurs (262SE3133) 
LOCATION:Neustadt; VHS (am Schloss Landestrost), OG 02, Schlossstr. 1, 31535 Neustadt a. Rbge.
END:VEVENT
BEGIN:VEVENT
DTSTAMP:20260422T092614
DTSTART;TZID=Europe/Berlin:20261119T144500
DTEND;TZID=Europe/Berlin:20261119T161500
UID:262SE3133-20261119T144500@VHSZWECKVERBAND VHS HANNOVER LAND
SUMMARY:Englisch für Fortgeschrittene (A2+): Seniorenkurs (262SE3133) 
LOCATION:Neustadt; VHS (am Schloss Landestrost), OG 03, Schlossstr. 1, 31535 Neustadt a. Rbge.
END:VEVENT
BEGIN:VEVENT
DTSTAMP:20260422T092614
DTSTART;TZID=Europe/Berlin:20261126T144500
DTEND;TZID=Europe/Berlin:20261126T161500
UID:262SE3133-20261126T144500@VHSZWECKVERBAND VHS HANNOVER LAND
SUMMARY:Englisch für Fortgeschrittene (A2+): Seniorenkurs (262SE3133) 
LOCATION:Neustadt; VHS (am Schloss Landestrost), OG 03, Schlossstr. 1, 31535 Neustadt a. Rbge.
END:VEVENT
BEGIN:VEVENT
DTSTAMP:20260422T092614
DTSTART;TZID=Europe/Berlin:20261203T144500
DTEND;TZID=Europe/Berlin:20261203T161500
UID:262SE3133-20261203T144500@VHSZWECKVERBAND VHS HANNOVER LAND
SUMMARY:Englisch für Fortgeschrittene (A2+): Seniorenkurs (262SE3133) 
LOCATION:Neustadt; VHS (am Schloss Landestrost), OG 02, Schlossstr. 1, 31535 Neustadt a. Rbge.
END:VEVENT
BEGIN:VEVENT
DTSTAMP:20260422T092614
DTSTART;TZID=Europe/Berlin:20261210T144500
DTEND;TZID=Europe/Berlin:20261210T161500
UID:262SE3133-20261210T144500@VHSZWECKVERBAND VHS HANNOVER LAND
SUMMARY:Englisch für Fortgeschrittene (A2+): Seniorenkurs (262SE3133) 
LOCATION:Neustadt; VHS (am Schloss Landestrost), OG 02, Schlossstr. 1, 31535 Neustadt a. Rbge.
END:VEVENT
END:VCALENDAR