BEGIN:VCALENDAR
VERSION:2.0
PRODID:http://www.kufer.de/kuferweb / DE
METHOD:PUBLISH
CALSCALE:GREGORIAN
X-WR-TIMEZONE:Europe/Berlin
BEGIN:VTIMEZONE
TZID:Europe/Berlin
X-LIC-LOCATION:Europe/Berlin
BEGIN:DAYLIGHT
TZOFFSETFROM:+0100
TZOFFSETTO:+0200
TZNAME:CEST
DTSTART;TZID=Europe/Berlin:19700329T020000
RRULE:FREQ=YEARLY;INTERVAL=1;BYDAY=-1SU;BYMONTH=3
END:DAYLIGHT
BEGIN:STANDARD
TZOFFSETFROM:+0200
TZOFFSETTO:+0100
TZNAME:CET
DTSTART;TZID=Europe/Berlin:19701025T030000
RRULE:FREQ=YEARLY;INTERVAL=1;BYDAY=-1SU;BYMONTH=10
END:STANDARD
END:VTIMEZONE
BEGIN:VEVENT
DTSTAMP:20260422T092617
DTSTART;TZID=Europe/Berlin:20260910T130000
DTEND;TZID=Europe/Berlin:20260910T143000
UID:262SE4113-20260910T130000@VHSZWECKVERBAND VHS HANNOVER LAND
SUMMARY:Englisch für Fortgeschrittene (B1): Seniorenkurs (262SE4113) 
LOCATION:Neustadt; VHS (am Schloss Landestrost), OG 02, Schlossstr. 1, 31535 Neustadt a. Rbge.
END:VEVENT
BEGIN:VEVENT
DTSTAMP:20260422T092617
DTSTART;TZID=Europe/Berlin:20260917T130000
DTEND;TZID=Europe/Berlin:20260917T143000
UID:262SE4113-20260917T130000@VHSZWECKVERBAND VHS HANNOVER LAND
SUMMARY:Englisch für Fortgeschrittene (B1): Seniorenkurs (262SE4113) 
LOCATION:Neustadt; VHS (am Schloss Landestrost), OG 04, Schlossstr. 1, 31535 Neustadt a. Rbge.
END:VEVENT
BEGIN:VEVENT
DTSTAMP:20260422T092617
DTSTART;TZID=Europe/Berlin:20260924T130000
DTEND;TZID=Europe/Berlin:20260924T143000
UID:262SE4113-20260924T130000@VHSZWECKVERBAND VHS HANNOVER LAND
SUMMARY:Englisch für Fortgeschrittene (B1): Seniorenkurs (262SE4113) 
LOCATION:Neustadt; VHS (am Schloss Landestrost), OG 02, Schlossstr. 1, 31535 Neustadt a. Rbge.
END:VEVENT
BEGIN:VEVENT
DTSTAMP:20260422T092617
DTSTART;TZID=Europe/Berlin:20261001T130000
DTEND;TZID=Europe/Berlin:20261001T143000
UID:262SE4113-20261001T130000@VHSZWECKVERBAND VHS HANNOVER LAND
SUMMARY:Englisch für Fortgeschrittene (B1): Seniorenkurs (262SE4113) 
LOCATION:Neustadt; VHS (am Schloss Landestrost), OG 02, Schlossstr. 1, 31535 Neustadt a. Rbge.
END:VEVENT
BEGIN:VEVENT
DTSTAMP:20260422T092617
DTSTART;TZID=Europe/Berlin:20261008T130000
DTEND;TZID=Europe/Berlin:20261008T143000
UID:262SE4113-20261008T130000@VHSZWECKVERBAND VHS HANNOVER LAND
SUMMARY:Englisch für Fortgeschrittene (B1): Seniorenkurs (262SE4113) 
LOCATION:Neustadt; VHS (am Schloss Landestrost), OG 02, Schlossstr. 1, 31535 Neustadt a. Rbge.
END:VEVENT
BEGIN:VEVENT
DTSTAMP:20260422T092617
DTSTART;TZID=Europe/Berlin:20261029T130000
DTEND;TZID=Europe/Berlin:20261029T143000
UID:262SE4113-20261029T130000@VHSZWECKVERBAND VHS HANNOVER LAND
SUMMARY:Englisch für Fortgeschrittene (B1): Seniorenkurs (262SE4113) 
LOCATION:Neustadt; VHS (am Schloss Landestrost), EG 01, Schlossstr. 1, 31535 Neustadt a. Rbge.
END:VEVENT
BEGIN:VEVENT
DTSTAMP:20260422T092617
DTSTART;TZID=Europe/Berlin:20261105T130000
DTEND;TZID=Europe/Berlin:20261105T143000
UID:262SE4113-20261105T130000@VHSZWECKVERBAND VHS HANNOVER LAND
SUMMARY:Englisch für Fortgeschrittene (B1): Seniorenkurs (262SE4113) 
LOCATION:Neustadt; VHS (am Schloss Landestrost), OG 01, Schlossstr. 1, 31535 Neustadt a. Rbge.
END:VEVENT
BEGIN:VEVENT
DTSTAMP:20260422T092617
DTSTART;TZID=Europe/Berlin:20261112T130000
DTEND;TZID=Europe/Berlin:20261112T143000
UID:262SE4113-20261112T130000@VHSZWECKVERBAND VHS HANNOVER LAND
SUMMARY:Englisch für Fortgeschrittene (B1): Seniorenkurs (262SE4113) 
LOCATION:Neustadt; VHS (am Schloss Landestrost), OG 02, Schlossstr. 1, 31535 Neustadt a. Rbge.
END:VEVENT
BEGIN:VEVENT
DTSTAMP:20260422T092617
DTSTART;TZID=Europe/Berlin:20261119T130000
DTEND;TZID=Europe/Berlin:20261119T143000
UID:262SE4113-20261119T130000@VHSZWECKVERBAND VHS HANNOVER LAND
SUMMARY:Englisch für Fortgeschrittene (B1): Seniorenkurs (262SE4113) 
LOCATION:Neustadt; VHS (am Schloss Landestrost), OG 03, Schlossstr. 1, 31535 Neustadt a. Rbge.
END:VEVENT
BEGIN:VEVENT
DTSTAMP:20260422T092617
DTSTART;TZID=Europe/Berlin:20261126T130000
DTEND;TZID=Europe/Berlin:20261126T143000
UID:262SE4113-20261126T130000@VHSZWECKVERBAND VHS HANNOVER LAND
SUMMARY:Englisch für Fortgeschrittene (B1): Seniorenkurs (262SE4113) 
LOCATION:Neustadt; VHS (am Schloss Landestrost), OG 03, Schlossstr. 1, 31535 Neustadt a. Rbge.
END:VEVENT
BEGIN:VEVENT
DTSTAMP:20260422T092617
DTSTART;TZID=Europe/Berlin:20261203T130000
DTEND;TZID=Europe/Berlin:20261203T143000
UID:262SE4113-20261203T130000@VHSZWECKVERBAND VHS HANNOVER LAND
SUMMARY:Englisch für Fortgeschrittene (B1): Seniorenkurs (262SE4113) 
LOCATION:Neustadt; VHS (am Schloss Landestrost), OG 02, Schlossstr. 1, 31535 Neustadt a. Rbge.
END:VEVENT
BEGIN:VEVENT
DTSTAMP:20260422T092617
DTSTART;TZID=Europe/Berlin:20261210T130000
DTEND;TZID=Europe/Berlin:20261210T143000
UID:262SE4113-20261210T130000@VHSZWECKVERBAND VHS HANNOVER LAND
SUMMARY:Englisch für Fortgeschrittene (B1): Seniorenkurs (262SE4113) 
LOCATION:Neustadt; VHS (am Schloss Landestrost), OG 02, Schlossstr. 1, 31535 Neustadt a. Rbge.
END:VEVENT
END:VCALENDAR