BEGIN:VCALENDAR
VERSION:2.0
PRODID:http://www.kufer.de/kuferweb / DE
METHOD:PUBLISH
CALSCALE:GREGORIAN
X-WR-TIMEZONE:Europe/Berlin
BEGIN:VTIMEZONE
TZID:Europe/Berlin
X-LIC-LOCATION:Europe/Berlin
BEGIN:DAYLIGHT
TZOFFSETFROM:+0100
TZOFFSETTO:+0200
TZNAME:CEST
DTSTART;TZID=Europe/Berlin:19700329T020000
RRULE:FREQ=YEARLY;INTERVAL=1;BYDAY=-1SU;BYMONTH=3
END:DAYLIGHT
BEGIN:STANDARD
TZOFFSETFROM:+0200
TZOFFSETTO:+0100
TZNAME:CET
DTSTART;TZID=Europe/Berlin:19701025T030000
RRULE:FREQ=YEARLY;INTERVAL=1;BYDAY=-1SU;BYMONTH=10
END:STANDARD
END:VTIMEZONE
BEGIN:VEVENT
DTSTAMP:20260422T092452
DTSTART;TZID=Europe/Berlin:20260908T130000
DTEND;TZID=Europe/Berlin:20260908T143000
UID:262SE4123-20260908T130000@VHSZWECKVERBAND VHS HANNOVER LAND
SUMMARY:Englisch für Fortgeschrittene (B1): Seniorenkurs (262SE4123) 
LOCATION:Neustadt; VHS (am Schloss Landestrost), OG 02, Schlossstr. 1, 31535 Neustadt a. Rbge.
END:VEVENT
BEGIN:VEVENT
DTSTAMP:20260422T092452
DTSTART;TZID=Europe/Berlin:20260915T130000
DTEND;TZID=Europe/Berlin:20260915T143000
UID:262SE4123-20260915T130000@VHSZWECKVERBAND VHS HANNOVER LAND
SUMMARY:Englisch für Fortgeschrittene (B1): Seniorenkurs (262SE4123) 
LOCATION:Neustadt; VHS (am Schloss Landestrost), OG 04, Schlossstr. 1, 31535 Neustadt a. Rbge.
END:VEVENT
BEGIN:VEVENT
DTSTAMP:20260422T092452
DTSTART;TZID=Europe/Berlin:20260922T130000
DTEND;TZID=Europe/Berlin:20260922T143000
UID:262SE4123-20260922T130000@VHSZWECKVERBAND VHS HANNOVER LAND
SUMMARY:Englisch für Fortgeschrittene (B1): Seniorenkurs (262SE4123) 
LOCATION:Neustadt; VHS (am Schloss Landestrost), OG 02, Schlossstr. 1, 31535 Neustadt a. Rbge.
END:VEVENT
BEGIN:VEVENT
DTSTAMP:20260422T092452
DTSTART;TZID=Europe/Berlin:20260929T130000
DTEND;TZID=Europe/Berlin:20260929T143000
UID:262SE4123-20260929T130000@VHSZWECKVERBAND VHS HANNOVER LAND
SUMMARY:Englisch für Fortgeschrittene (B1): Seniorenkurs (262SE4123) 
LOCATION:Neustadt; VHS (am Schloss Landestrost), OG 02, Schlossstr. 1, 31535 Neustadt a. Rbge.
END:VEVENT
BEGIN:VEVENT
DTSTAMP:20260422T092452
DTSTART;TZID=Europe/Berlin:20261006T130000
DTEND;TZID=Europe/Berlin:20261006T143000
UID:262SE4123-20261006T130000@VHSZWECKVERBAND VHS HANNOVER LAND
SUMMARY:Englisch für Fortgeschrittene (B1): Seniorenkurs (262SE4123) 
LOCATION:Neustadt; VHS (am Schloss Landestrost), OG 02, Schlossstr. 1, 31535 Neustadt a. Rbge.
END:VEVENT
BEGIN:VEVENT
DTSTAMP:20260422T092452
DTSTART;TZID=Europe/Berlin:20261027T130000
DTEND;TZID=Europe/Berlin:20261027T143000
UID:262SE4123-20261027T130000@VHSZWECKVERBAND VHS HANNOVER LAND
SUMMARY:Englisch für Fortgeschrittene (B1): Seniorenkurs (262SE4123) 
LOCATION:Neustadt; VHS (am Schloss Landestrost), OG 04, Schlossstr. 1, 31535 Neustadt a. Rbge.
END:VEVENT
BEGIN:VEVENT
DTSTAMP:20260422T092452
DTSTART;TZID=Europe/Berlin:20261103T130000
DTEND;TZID=Europe/Berlin:20261103T143000
UID:262SE4123-20261103T130000@VHSZWECKVERBAND VHS HANNOVER LAND
SUMMARY:Englisch für Fortgeschrittene (B1): Seniorenkurs (262SE4123) 
LOCATION:Neustadt; VHS (am Schloss Landestrost), OG 02, Schlossstr. 1, 31535 Neustadt a. Rbge.
END:VEVENT
BEGIN:VEVENT
DTSTAMP:20260422T092452
DTSTART;TZID=Europe/Berlin:20261110T130000
DTEND;TZID=Europe/Berlin:20261110T143000
UID:262SE4123-20261110T130000@VHSZWECKVERBAND VHS HANNOVER LAND
SUMMARY:Englisch für Fortgeschrittene (B1): Seniorenkurs (262SE4123) 
LOCATION:Neustadt; VHS (am Schloss Landestrost), OG 04, Schlossstr. 1, 31535 Neustadt a. Rbge.
END:VEVENT
BEGIN:VEVENT
DTSTAMP:20260422T092452
DTSTART;TZID=Europe/Berlin:20261117T130000
DTEND;TZID=Europe/Berlin:20261117T143000
UID:262SE4123-20261117T130000@VHSZWECKVERBAND VHS HANNOVER LAND
SUMMARY:Englisch für Fortgeschrittene (B1): Seniorenkurs (262SE4123) 
LOCATION:Neustadt; VHS (am Schloss Landestrost), OG 02, Schlossstr. 1, 31535 Neustadt a. Rbge.
END:VEVENT
BEGIN:VEVENT
DTSTAMP:20260422T092452
DTSTART;TZID=Europe/Berlin:20261124T130000
DTEND;TZID=Europe/Berlin:20261124T143000
UID:262SE4123-20261124T130000@VHSZWECKVERBAND VHS HANNOVER LAND
SUMMARY:Englisch für Fortgeschrittene (B1): Seniorenkurs (262SE4123) 
LOCATION:Neustadt; VHS (am Schloss Landestrost), OG 02, Schlossstr. 1, 31535 Neustadt a. Rbge.
END:VEVENT
BEGIN:VEVENT
DTSTAMP:20260422T092452
DTSTART;TZID=Europe/Berlin:20261201T130000
DTEND;TZID=Europe/Berlin:20261201T143000
UID:262SE4123-20261201T130000@VHSZWECKVERBAND VHS HANNOVER LAND
SUMMARY:Englisch für Fortgeschrittene (B1): Seniorenkurs (262SE4123) 
LOCATION:Neustadt; VHS (am Schloss Landestrost), OG 02, Schlossstr. 1, 31535 Neustadt a. Rbge.
END:VEVENT
BEGIN:VEVENT
DTSTAMP:20260422T092452
DTSTART;TZID=Europe/Berlin:20261208T130000
DTEND;TZID=Europe/Berlin:20261208T143000
UID:262SE4123-20261208T130000@VHSZWECKVERBAND VHS HANNOVER LAND
SUMMARY:Englisch für Fortgeschrittene (B1): Seniorenkurs (262SE4123) 
LOCATION:Neustadt; VHS (am Schloss Landestrost), OG 02, Schlossstr. 1, 31535 Neustadt a. Rbge.
END:VEVENT
END:VCALENDAR