BEGIN:VCALENDAR
VERSION:2.0
PRODID:http://www.kufer.de/kuferweb / DE
METHOD:PUBLISH
CALSCALE:GREGORIAN
X-WR-TIMEZONE:Europe/Berlin
BEGIN:VTIMEZONE
TZID:Europe/Berlin
X-LIC-LOCATION:Europe/Berlin
BEGIN:DAYLIGHT
TZOFFSETFROM:+0100
TZOFFSETTO:+0200
TZNAME:CEST
DTSTART;TZID=Europe/Berlin:19700329T020000
RRULE:FREQ=YEARLY;INTERVAL=1;BYDAY=-1SU;BYMONTH=3
END:DAYLIGHT
BEGIN:STANDARD
TZOFFSETFROM:+0200
TZOFFSETTO:+0100
TZNAME:CET
DTSTART;TZID=Europe/Berlin:19701025T030000
RRULE:FREQ=YEARLY;INTERVAL=1;BYDAY=-1SU;BYMONTH=10
END:STANDARD
END:VTIMEZONE
BEGIN:VEVENT
DTSTAMP:20260422T124626
DTSTART;TZID=Europe/Berlin:20261028T133000
DTEND;TZID=Europe/Berlin:20261028T150000
UID:262SE5723-20261028T133000@VHSZWECKVERBAND VHS HANNOVER LAND
SUMMARY:Englisch für Fortgeschrittene (B2): Konversationskurs (262SE5723) 
LOCATION:Neustadt; VHS (am Schloss Landestrost), OG 01, Schlossstr. 1, 31535 Neustadt a. Rbge.
END:VEVENT
BEGIN:VEVENT
DTSTAMP:20260422T124626
DTSTART;TZID=Europe/Berlin:20261104T133000
DTEND;TZID=Europe/Berlin:20261104T150000
UID:262SE5723-20261104T133000@VHSZWECKVERBAND VHS HANNOVER LAND
SUMMARY:Englisch für Fortgeschrittene (B2): Konversationskurs (262SE5723) 
LOCATION:Neustadt; VHS (am Schloss Landestrost), OG 01, Schlossstr. 1, 31535 Neustadt a. Rbge.
END:VEVENT
BEGIN:VEVENT
DTSTAMP:20260422T124626
DTSTART;TZID=Europe/Berlin:20261111T133000
DTEND;TZID=Europe/Berlin:20261111T150000
UID:262SE5723-20261111T133000@VHSZWECKVERBAND VHS HANNOVER LAND
SUMMARY:Englisch für Fortgeschrittene (B2): Konversationskurs (262SE5723) 
LOCATION:Neustadt; VHS (am Schloss Landestrost), OG 02, Schlossstr. 1, 31535 Neustadt a. Rbge.
END:VEVENT
BEGIN:VEVENT
DTSTAMP:20260422T124626
DTSTART;TZID=Europe/Berlin:20261118T133000
DTEND;TZID=Europe/Berlin:20261118T150000
UID:262SE5723-20261118T133000@VHSZWECKVERBAND VHS HANNOVER LAND
SUMMARY:Englisch für Fortgeschrittene (B2): Konversationskurs (262SE5723) 
LOCATION:Neustadt; VHS (am Schloss Landestrost), OG 02, Schlossstr. 1, 31535 Neustadt a. Rbge.
END:VEVENT
BEGIN:VEVENT
DTSTAMP:20260422T124626
DTSTART;TZID=Europe/Berlin:20261125T133000
DTEND;TZID=Europe/Berlin:20261125T150000
UID:262SE5723-20261125T133000@VHSZWECKVERBAND VHS HANNOVER LAND
SUMMARY:Englisch für Fortgeschrittene (B2): Konversationskurs (262SE5723) 
LOCATION:Neustadt; VHS (am Schloss Landestrost), OG 02, Schlossstr. 1, 31535 Neustadt a. Rbge.
END:VEVENT
BEGIN:VEVENT
DTSTAMP:20260422T124626
DTSTART;TZID=Europe/Berlin:20261202T133000
DTEND;TZID=Europe/Berlin:20261202T150000
UID:262SE5723-20261202T133000@VHSZWECKVERBAND VHS HANNOVER LAND
SUMMARY:Englisch für Fortgeschrittene (B2): Konversationskurs (262SE5723) 
LOCATION:Neustadt; VHS (am Schloss Landestrost), OG 02, Schlossstr. 1, 31535 Neustadt a. Rbge.
END:VEVENT
BEGIN:VEVENT
DTSTAMP:20260422T124626
DTSTART;TZID=Europe/Berlin:20261209T133000
DTEND;TZID=Europe/Berlin:20261209T150000
UID:262SE5723-20261209T133000@VHSZWECKVERBAND VHS HANNOVER LAND
SUMMARY:Englisch für Fortgeschrittene (B2): Konversationskurs (262SE5723) 
LOCATION:Neustadt; VHS (am Schloss Landestrost), OG 02, Schlossstr. 1, 31535 Neustadt a. Rbge.
END:VEVENT
END:VCALENDAR