BEGIN:VCALENDAR
VERSION:2.0
PRODID:http://www.kufer.de/kuferweb / DE
METHOD:PUBLISH
CALSCALE:GREGORIAN
X-WR-TIMEZONE:Europe/Berlin
BEGIN:VTIMEZONE
TZID:Europe/Berlin
X-LIC-LOCATION:Europe/Berlin
BEGIN:DAYLIGHT
TZOFFSETFROM:+0100
TZOFFSETTO:+0200
TZNAME:CEST
DTSTART;TZID=Europe/Berlin:19700329T020000
RRULE:FREQ=YEARLY;INTERVAL=1;BYDAY=-1SU;BYMONTH=3
END:DAYLIGHT
BEGIN:STANDARD
TZOFFSETFROM:+0200
TZOFFSETTO:+0100
TZNAME:CET
DTSTART;TZID=Europe/Berlin:19701025T030000
RRULE:FREQ=YEARLY;INTERVAL=1;BYDAY=-1SU;BYMONTH=10
END:STANDARD
END:VTIMEZONE
BEGIN:VEVENT
DTSTAMP:20260422T222549
DTSTART;TZID=Europe/Berlin:20260824T084500
DTEND;TZID=Europe/Berlin:20260824T120000
UID:262SP1022-20260824T084500@VHSZWECKVERBAND VHS HANNOVER LAND
SUMMARY:Spanisch A1.2 - Für Anfänger ab Lektion 3: Intensivwoche am Vormittag (262SP1022) 
LOCATION:Garbsen; Geschäftsstelle vhs (am Planetencenter); AUR1, Planetenring 35, 30823 Garbsen
END:VEVENT
BEGIN:VEVENT
DTSTAMP:20260422T222549
DTSTART;TZID=Europe/Berlin:20260825T084500
DTEND;TZID=Europe/Berlin:20260825T120000
UID:262SP1022-20260825T084500@VHSZWECKVERBAND VHS HANNOVER LAND
SUMMARY:Spanisch A1.2 - Für Anfänger ab Lektion 3: Intensivwoche am Vormittag (262SP1022) 
LOCATION:Garbsen; Geschäftsstelle vhs (am Planetencenter); AUR1, Planetenring 35, 30823 Garbsen
END:VEVENT
BEGIN:VEVENT
DTSTAMP:20260422T222549
DTSTART;TZID=Europe/Berlin:20260826T084500
DTEND;TZID=Europe/Berlin:20260826T120000
UID:262SP1022-20260826T084500@VHSZWECKVERBAND VHS HANNOVER LAND
SUMMARY:Spanisch A1.2 - Für Anfänger ab Lektion 3: Intensivwoche am Vormittag (262SP1022) 
LOCATION:Garbsen; Geschäftsstelle vhs (am Planetencenter); AUR1, Planetenring 35, 30823 Garbsen
END:VEVENT
BEGIN:VEVENT
DTSTAMP:20260422T222549
DTSTART;TZID=Europe/Berlin:20260827T084500
DTEND;TZID=Europe/Berlin:20260827T120000
UID:262SP1022-20260827T084500@VHSZWECKVERBAND VHS HANNOVER LAND
SUMMARY:Spanisch A1.2 - Für Anfänger ab Lektion 3: Intensivwoche am Vormittag (262SP1022) 
LOCATION:Garbsen; Geschäftsstelle vhs (am Planetencenter); AUR1, Planetenring 35, 30823 Garbsen
END:VEVENT
BEGIN:VEVENT
DTSTAMP:20260422T222549
DTSTART;TZID=Europe/Berlin:20260828T084500
DTEND;TZID=Europe/Berlin:20260828T120000
UID:262SP1022-20260828T084500@VHSZWECKVERBAND VHS HANNOVER LAND
SUMMARY:Spanisch A1.2 - Für Anfänger ab Lektion 3: Intensivwoche am Vormittag (262SP1022) 
LOCATION:Garbsen; Geschäftsstelle vhs (am Planetencenter); AUR1, Planetenring 35, 30823 Garbsen
END:VEVENT
END:VCALENDAR