BEGIN:VCALENDAR
VERSION:2.0
PRODID:http://www.kufer.de/kuferweb / DE
METHOD:PUBLISH
CALSCALE:GREGORIAN
X-WR-TIMEZONE:Europe/Berlin
BEGIN:VTIMEZONE
TZID:Europe/Berlin
X-LIC-LOCATION:Europe/Berlin
BEGIN:DAYLIGHT
TZOFFSETFROM:+0100
TZOFFSETTO:+0200
TZNAME:CEST
DTSTART;TZID=Europe/Berlin:19700329T020000
RRULE:FREQ=YEARLY;INTERVAL=1;BYDAY=-1SU;BYMONTH=3
END:DAYLIGHT
BEGIN:STANDARD
TZOFFSETFROM:+0200
TZOFFSETTO:+0100
TZNAME:CET
DTSTART;TZID=Europe/Berlin:19701025T030000
RRULE:FREQ=YEARLY;INTERVAL=1;BYDAY=-1SU;BYMONTH=10
END:STANDARD
END:VTIMEZONE
BEGIN:VEVENT
DTSTAMP:20260422T190731
DTSTART;TZID=Europe/Berlin:20260813T181500
DTEND;TZID=Europe/Berlin:20260813T194500
UID:262SP1122-20260813T181500@VHSZWECKVERBAND VHS HANNOVER LAND
SUMMARY:Spanisch für Anfänger (A1): Von Anfang an (262SP1122) 
LOCATION:Garbsen; Geschäftsstelle vhs (am Planetencenter); AUR4, Planetenring 35, 30823 Garbsen
END:VEVENT
BEGIN:VEVENT
DTSTAMP:20260422T190731
DTSTART;TZID=Europe/Berlin:20260827T181500
DTEND;TZID=Europe/Berlin:20260827T194500
UID:262SP1122-20260827T181500@VHSZWECKVERBAND VHS HANNOVER LAND
SUMMARY:Spanisch für Anfänger (A1): Von Anfang an (262SP1122) 
LOCATION:Web-Seminar 8, Den Zugang bekommen Sie ca. eine Woche vor Beginn, Zoom
END:VEVENT
BEGIN:VEVENT
DTSTAMP:20260422T190731
DTSTART;TZID=Europe/Berlin:20260903T181500
DTEND;TZID=Europe/Berlin:20260903T194500
UID:262SP1122-20260903T181500@VHSZWECKVERBAND VHS HANNOVER LAND
SUMMARY:Spanisch für Anfänger (A1): Von Anfang an (262SP1122) 
LOCATION:Web-Seminar 8, Den Zugang bekommen Sie ca. eine Woche vor Beginn, Zoom
END:VEVENT
BEGIN:VEVENT
DTSTAMP:20260422T190731
DTSTART;TZID=Europe/Berlin:20260910T181500
DTEND;TZID=Europe/Berlin:20260910T194500
UID:262SP1122-20260910T181500@VHSZWECKVERBAND VHS HANNOVER LAND
SUMMARY:Spanisch für Anfänger (A1): Von Anfang an (262SP1122) 
LOCATION:Web-Seminar 8, Den Zugang bekommen Sie ca. eine Woche vor Beginn, Zoom
END:VEVENT
BEGIN:VEVENT
DTSTAMP:20260422T190731
DTSTART;TZID=Europe/Berlin:20260917T181500
DTEND;TZID=Europe/Berlin:20260917T194500
UID:262SP1122-20260917T181500@VHSZWECKVERBAND VHS HANNOVER LAND
SUMMARY:Spanisch für Anfänger (A1): Von Anfang an (262SP1122) 
LOCATION:Garbsen; Geschäftsstelle vhs (am Planetencenter); AUR4, Planetenring 35, 30823 Garbsen
END:VEVENT
BEGIN:VEVENT
DTSTAMP:20260422T190731
DTSTART;TZID=Europe/Berlin:20260924T181500
DTEND;TZID=Europe/Berlin:20260924T194500
UID:262SP1122-20260924T181500@VHSZWECKVERBAND VHS HANNOVER LAND
SUMMARY:Spanisch für Anfänger (A1): Von Anfang an (262SP1122) 
LOCATION:Garbsen; Geschäftsstelle vhs (am Planetencenter); AUR4, Planetenring 35, 30823 Garbsen
END:VEVENT
BEGIN:VEVENT
DTSTAMP:20260422T190731
DTSTART;TZID=Europe/Berlin:20261001T181500
DTEND;TZID=Europe/Berlin:20261001T194500
UID:262SP1122-20261001T181500@VHSZWECKVERBAND VHS HANNOVER LAND
SUMMARY:Spanisch für Anfänger (A1): Von Anfang an (262SP1122) 
LOCATION:Web-Seminar 8, Den Zugang bekommen Sie ca. eine Woche vor Beginn, Zoom
END:VEVENT
BEGIN:VEVENT
DTSTAMP:20260422T190731
DTSTART;TZID=Europe/Berlin:20261008T181500
DTEND;TZID=Europe/Berlin:20261008T194500
UID:262SP1122-20261008T181500@VHSZWECKVERBAND VHS HANNOVER LAND
SUMMARY:Spanisch für Anfänger (A1): Von Anfang an (262SP1122) 
LOCATION:Garbsen; Geschäftsstelle vhs (am Planetencenter); AUR4, Planetenring 35, 30823 Garbsen
END:VEVENT
END:VCALENDAR