BEGIN:VCALENDAR
VERSION:2.0
PRODID:http://www.kufer.de/kuferweb / DE
METHOD:PUBLISH
CALSCALE:GREGORIAN
X-WR-TIMEZONE:Europe/Berlin
BEGIN:VTIMEZONE
TZID:Europe/Berlin
X-LIC-LOCATION:Europe/Berlin
BEGIN:DAYLIGHT
TZOFFSETFROM:+0100
TZOFFSETTO:+0200
TZNAME:CEST
DTSTART;TZID=Europe/Berlin:19700329T020000
RRULE:FREQ=YEARLY;INTERVAL=1;BYDAY=-1SU;BYMONTH=3
END:DAYLIGHT
BEGIN:STANDARD
TZOFFSETFROM:+0200
TZOFFSETTO:+0100
TZNAME:CET
DTSTART;TZID=Europe/Berlin:19701025T030000
RRULE:FREQ=YEARLY;INTERVAL=1;BYDAY=-1SU;BYMONTH=10
END:STANDARD
END:VTIMEZONE
BEGIN:VEVENT
DTSTAMP:20260422T171144
DTSTART;TZID=Europe/Berlin:20261029T181500
DTEND;TZID=Europe/Berlin:20261029T194500
UID:262SP1132-20261029T181500@VHSZWECKVERBAND VHS HANNOVER LAND
SUMMARY:Spanisch für Anfänger mit geringen Vorkenntnissen (A1) ca. ab Lektion 3 (262SP1132) 
LOCATION:Garbsen; Geschäftsstelle vhs (am Planetencenter); AUR5, Planetenring 35, 30823 Garbsen
END:VEVENT
BEGIN:VEVENT
DTSTAMP:20260422T171144
DTSTART;TZID=Europe/Berlin:20261105T181500
DTEND;TZID=Europe/Berlin:20261105T194500
UID:262SP1132-20261105T181500@VHSZWECKVERBAND VHS HANNOVER LAND
SUMMARY:Spanisch für Anfänger mit geringen Vorkenntnissen (A1) ca. ab Lektion 3 (262SP1132) 
LOCATION:Web-Seminar 8, Den Zugang bekommen Sie ca. eine Woche vor Beginn, Zoom
END:VEVENT
BEGIN:VEVENT
DTSTAMP:20260422T171144
DTSTART;TZID=Europe/Berlin:20261112T181500
DTEND;TZID=Europe/Berlin:20261112T194500
UID:262SP1132-20261112T181500@VHSZWECKVERBAND VHS HANNOVER LAND
SUMMARY:Spanisch für Anfänger mit geringen Vorkenntnissen (A1) ca. ab Lektion 3 (262SP1132) 
LOCATION:Web-Seminar 8, Den Zugang bekommen Sie ca. eine Woche vor Beginn, Zoom
END:VEVENT
BEGIN:VEVENT
DTSTAMP:20260422T171144
DTSTART;TZID=Europe/Berlin:20261119T181500
DTEND;TZID=Europe/Berlin:20261119T194500
UID:262SP1132-20261119T181500@VHSZWECKVERBAND VHS HANNOVER LAND
SUMMARY:Spanisch für Anfänger mit geringen Vorkenntnissen (A1) ca. ab Lektion 3 (262SP1132) 
LOCATION:Web-Seminar 8, Den Zugang bekommen Sie ca. eine Woche vor Beginn, Zoom
END:VEVENT
BEGIN:VEVENT
DTSTAMP:20260422T171144
DTSTART;TZID=Europe/Berlin:20261126T181500
DTEND;TZID=Europe/Berlin:20261126T194500
UID:262SP1132-20261126T181500@VHSZWECKVERBAND VHS HANNOVER LAND
SUMMARY:Spanisch für Anfänger mit geringen Vorkenntnissen (A1) ca. ab Lektion 3 (262SP1132) 
LOCATION:Garbsen; Geschäftsstelle vhs (am Planetencenter); AUR5, Planetenring 35, 30823 Garbsen
END:VEVENT
BEGIN:VEVENT
DTSTAMP:20260422T171144
DTSTART;TZID=Europe/Berlin:20261203T181500
DTEND;TZID=Europe/Berlin:20261203T194500
UID:262SP1132-20261203T181500@VHSZWECKVERBAND VHS HANNOVER LAND
SUMMARY:Spanisch für Anfänger mit geringen Vorkenntnissen (A1) ca. ab Lektion 3 (262SP1132) 
LOCATION:Garbsen; Geschäftsstelle vhs (am Planetencenter); AUR5, Planetenring 35, 30823 Garbsen
END:VEVENT
BEGIN:VEVENT
DTSTAMP:20260422T171144
DTSTART;TZID=Europe/Berlin:20261210T181500
DTEND;TZID=Europe/Berlin:20261210T194500
UID:262SP1132-20261210T181500@VHSZWECKVERBAND VHS HANNOVER LAND
SUMMARY:Spanisch für Anfänger mit geringen Vorkenntnissen (A1) ca. ab Lektion 3 (262SP1132) 
LOCATION:Web-Seminar 8, Den Zugang bekommen Sie ca. eine Woche vor Beginn, Zoom
END:VEVENT
BEGIN:VEVENT
DTSTAMP:20260422T171144
DTSTART;TZID=Europe/Berlin:20261217T181500
DTEND;TZID=Europe/Berlin:20261217T194500
UID:262SP1132-20261217T181500@VHSZWECKVERBAND VHS HANNOVER LAND
SUMMARY:Spanisch für Anfänger mit geringen Vorkenntnissen (A1) ca. ab Lektion 3 (262SP1132) 
LOCATION:Garbsen; Geschäftsstelle vhs (am Planetencenter); AUR5, Planetenring 35, 30823 Garbsen
END:VEVENT
END:VCALENDAR