BEGIN:VCALENDAR
VERSION:2.0
PRODID:http://www.kufer.de/kuferweb / DE
METHOD:PUBLISH
CALSCALE:GREGORIAN
X-WR-TIMEZONE:Europe/Berlin
BEGIN:VTIMEZONE
TZID:Europe/Berlin
X-LIC-LOCATION:Europe/Berlin
BEGIN:DAYLIGHT
TZOFFSETFROM:+0100
TZOFFSETTO:+0200
TZNAME:CEST
DTSTART;TZID=Europe/Berlin:19700329T020000
RRULE:FREQ=YEARLY;INTERVAL=1;BYDAY=-1SU;BYMONTH=3
END:DAYLIGHT
BEGIN:STANDARD
TZOFFSETFROM:+0200
TZOFFSETTO:+0100
TZNAME:CET
DTSTART;TZID=Europe/Berlin:19701025T030000
RRULE:FREQ=YEARLY;INTERVAL=1;BYDAY=-1SU;BYMONTH=10
END:STANDARD
END:VTIMEZONE
BEGIN:VEVENT
DTSTAMP:20260422T190731
DTSTART;TZID=Europe/Berlin:20261116T084500
DTEND;TZID=Europe/Berlin:20261116T120000
UID:262SPB122-20261116T084500@VHSZWECKVERBAND VHS HANNOVER LAND
SUMMARY:Teilzeit-Bildungsurlaub: Spanisch für Anfänger (A1.1) (262SPB122) 
LOCATION:Garbsen; Geschäftsstelle vhs (am Planetencenter); AUR1, Planetenring 35, 30823 Garbsen
END:VEVENT
BEGIN:VEVENT
DTSTAMP:20260422T190731
DTSTART;TZID=Europe/Berlin:20261117T084500
DTEND;TZID=Europe/Berlin:20261117T120000
UID:262SPB122-20261117T084500@VHSZWECKVERBAND VHS HANNOVER LAND
SUMMARY:Teilzeit-Bildungsurlaub: Spanisch für Anfänger (A1.1) (262SPB122) 
LOCATION:Garbsen; Geschäftsstelle vhs (am Planetencenter); AUR1, Planetenring 35, 30823 Garbsen
END:VEVENT
BEGIN:VEVENT
DTSTAMP:20260422T190731
DTSTART;TZID=Europe/Berlin:20261118T084500
DTEND;TZID=Europe/Berlin:20261118T120000
UID:262SPB122-20261118T084500@VHSZWECKVERBAND VHS HANNOVER LAND
SUMMARY:Teilzeit-Bildungsurlaub: Spanisch für Anfänger (A1.1) (262SPB122) 
LOCATION:Garbsen; Geschäftsstelle vhs (am Planetencenter); AUR1, Planetenring 35, 30823 Garbsen
END:VEVENT
BEGIN:VEVENT
DTSTAMP:20260422T190731
DTSTART;TZID=Europe/Berlin:20261119T084500
DTEND;TZID=Europe/Berlin:20261119T120000
UID:262SPB122-20261119T084500@VHSZWECKVERBAND VHS HANNOVER LAND
SUMMARY:Teilzeit-Bildungsurlaub: Spanisch für Anfänger (A1.1) (262SPB122) 
LOCATION:Garbsen; Geschäftsstelle vhs (am Planetencenter); AUR1, Planetenring 35, 30823 Garbsen
END:VEVENT
BEGIN:VEVENT
DTSTAMP:20260422T190731
DTSTART;TZID=Europe/Berlin:20261120T084500
DTEND;TZID=Europe/Berlin:20261120T120000
UID:262SPB122-20261120T084500@VHSZWECKVERBAND VHS HANNOVER LAND
SUMMARY:Teilzeit-Bildungsurlaub: Spanisch für Anfänger (A1.1) (262SPB122) 
LOCATION:Garbsen; Geschäftsstelle vhs (am Planetencenter); AUR1, Planetenring 35, 30823 Garbsen
END:VEVENT
END:VCALENDAR