BEGIN:VCALENDAR
VERSION:2.0
PRODID:http://www.kufer.de/kuferweb / DE
METHOD:PUBLISH
CALSCALE:GREGORIAN
X-WR-TIMEZONE:Europe/Berlin
BEGIN:VTIMEZONE
TZID:Europe/Berlin
X-LIC-LOCATION:Europe/Berlin
BEGIN:DAYLIGHT
TZOFFSETFROM:+0100
TZOFFSETTO:+0200
TZNAME:CEST
DTSTART;TZID=Europe/Berlin:19700329T020000
RRULE:FREQ=YEARLY;INTERVAL=1;BYDAY=-1SU;BYMONTH=3
END:DAYLIGHT
BEGIN:STANDARD
TZOFFSETFROM:+0200
TZOFFSETTO:+0100
TZNAME:CET
DTSTART;TZID=Europe/Berlin:19701025T030000
RRULE:FREQ=YEARLY;INTERVAL=1;BYDAY=-1SU;BYMONTH=10
END:STANDARD
END:VTIMEZONE
BEGIN:VEVENT
DTSTAMP:20260422T204602
DTSTART;TZID=Europe/Berlin:20260925T173000
DTEND;TZID=Europe/Berlin:20260925T203000
UID:262SW0310-20260925T173000@VHSZWECKVERBAND VHS HANNOVER LAND
SUMMARY:Schwedisch für Auffrischer (A1) Wochenendkurs (262SW0310) 
LOCATION:Burgwedel; Kulturzentrum-Amtshof; 107, Auf dem Amtshof 8, 30938 Burgwedel-Großburgwedel
END:VEVENT
BEGIN:VEVENT
DTSTAMP:20260422T204602
DTSTART;TZID=Europe/Berlin:20260926T100000
DTEND;TZID=Europe/Berlin:20260926T153000
UID:262SW0310-20260926T100000@VHSZWECKVERBAND VHS HANNOVER LAND
SUMMARY:Schwedisch für Auffrischer (A1) Wochenendkurs (262SW0310) 
LOCATION:Burgwedel; Kulturzentrum-Amtshof; 107, Auf dem Amtshof 8, 30938 Burgwedel-Großburgwedel
END:VEVENT
BEGIN:VEVENT
DTSTAMP:20260422T204602
DTSTART;TZID=Europe/Berlin:20260927T100000
DTEND;TZID=Europe/Berlin:20260927T153000
UID:262SW0310-20260927T100000@VHSZWECKVERBAND VHS HANNOVER LAND
SUMMARY:Schwedisch für Auffrischer (A1) Wochenendkurs (262SW0310) 
LOCATION:Burgwedel; Kulturzentrum-Amtshof; 107, Auf dem Amtshof 8, 30938 Burgwedel-Großburgwedel
END:VEVENT
END:VCALENDAR