BEGIN:VCALENDAR
VERSION:2.0
PRODID:http://www.kufer.de/kuferweb / DE
METHOD:PUBLISH
CALSCALE:GREGORIAN
X-WR-TIMEZONE:Europe/Berlin
BEGIN:VTIMEZONE
TZID:Europe/Berlin
X-LIC-LOCATION:Europe/Berlin
BEGIN:DAYLIGHT
TZOFFSETFROM:+0100
TZOFFSETTO:+0200
TZNAME:CEST
DTSTART;TZID=Europe/Berlin:19700329T020000
RRULE:FREQ=YEARLY;INTERVAL=1;BYDAY=-1SU;BYMONTH=3
END:DAYLIGHT
BEGIN:STANDARD
TZOFFSETFROM:+0200
TZOFFSETTO:+0100
TZNAME:CET
DTSTART;TZID=Europe/Berlin:19701025T030000
RRULE:FREQ=YEARLY;INTERVAL=1;BYDAY=-1SU;BYMONTH=10
END:STANDARD
END:VTIMEZONE
BEGIN:VEVENT
DTSTAMP:20260422T061311
DTSTART;TZID=Europe/Berlin:20270409T170000
DTEND;TZID=Europe/Berlin:20270409T201500
UID:271PL1003-20270409T170000@VHSZWECKVERBAND VHS HANNOVER LAND
SUMMARY:Systemische*r Berater*in (vhsConcept) Systemisch denken - systemisch handeln (271PL1003) 
LOCATION:Neustadt; VHS (am Schloss Landestrost), EG 01, Schlossstr. 1, 31535 Neustadt a. Rbge.
END:VEVENT
BEGIN:VEVENT
DTSTAMP:20260422T061311
DTSTART;TZID=Europe/Berlin:20270409T170000
DTEND;TZID=Europe/Berlin:20270409T201500
UID:271PL1003-20270409T170000@VHSZWECKVERBAND VHS HANNOVER LAND
SUMMARY:Systemische*r Berater*in (vhsConcept) Systemisch denken - systemisch handeln (271PL1003) 
LOCATION:Neustadt; VHS (am Schloss Landestrost), EG 01, Schlossstr. 1, 31535 Neustadt a. Rbge.
END:VEVENT
BEGIN:VEVENT
DTSTAMP:20260422T061311
DTSTART;TZID=Europe/Berlin:20270410T090000
DTEND;TZID=Europe/Berlin:20270410T154500
UID:271PL1003-20270410T090000@VHSZWECKVERBAND VHS HANNOVER LAND
SUMMARY:Systemische*r Berater*in (vhsConcept) Systemisch denken - systemisch handeln (271PL1003) 
LOCATION:Neustadt; VHS (am Schloss Landestrost), EG 01, Schlossstr. 1, 31535 Neustadt a. Rbge.
END:VEVENT
BEGIN:VEVENT
DTSTAMP:20260422T061311
DTSTART;TZID=Europe/Berlin:20270410T090000
DTEND;TZID=Europe/Berlin:20270410T154500
UID:271PL1003-20270410T090000@VHSZWECKVERBAND VHS HANNOVER LAND
SUMMARY:Systemische*r Berater*in (vhsConcept) Systemisch denken - systemisch handeln (271PL1003) 
LOCATION:Neustadt; VHS (am Schloss Landestrost), EG 01, Schlossstr. 1, 31535 Neustadt a. Rbge.
END:VEVENT
BEGIN:VEVENT
DTSTAMP:20260422T061311
DTSTART;TZID=Europe/Berlin:20270521T170000
DTEND;TZID=Europe/Berlin:20270521T201500
UID:271PL1003-20270521T170000@VHSZWECKVERBAND VHS HANNOVER LAND
SUMMARY:Systemische*r Berater*in (vhsConcept) Systemisch denken - systemisch handeln (271PL1003) 
LOCATION:Neustadt; VHS (am Schloss Landestrost), OG 01, Schlossstr. 1, 31535 Neustadt a. Rbge.
END:VEVENT
BEGIN:VEVENT
DTSTAMP:20260422T061311
DTSTART;TZID=Europe/Berlin:20270522T090000
DTEND;TZID=Europe/Berlin:20270522T154500
UID:271PL1003-20270522T090000@VHSZWECKVERBAND VHS HANNOVER LAND
SUMMARY:Systemische*r Berater*in (vhsConcept) Systemisch denken - systemisch handeln (271PL1003) 
LOCATION:Neustadt; VHS (am Schloss Landestrost), OG 01, Schlossstr. 1, 31535 Neustadt a. Rbge.
END:VEVENT
BEGIN:VEVENT
DTSTAMP:20260422T061311
DTSTART;TZID=Europe/Berlin:20270702T170000
DTEND;TZID=Europe/Berlin:20270702T201500
UID:271PL1003-20270702T170000@VHSZWECKVERBAND VHS HANNOVER LAND
SUMMARY:Systemische*r Berater*in (vhsConcept) Systemisch denken - systemisch handeln (271PL1003) 
LOCATION:Neustadt; VHS (am Schloss Landestrost), EG 01, Schlossstr. 1, 31535 Neustadt a. Rbge.
END:VEVENT
BEGIN:VEVENT
DTSTAMP:20260422T061311
DTSTART;TZID=Europe/Berlin:20270703T090000
DTEND;TZID=Europe/Berlin:20270703T154500
UID:271PL1003-20270703T090000@VHSZWECKVERBAND VHS HANNOVER LAND
SUMMARY:Systemische*r Berater*in (vhsConcept) Systemisch denken - systemisch handeln (271PL1003) 
LOCATION:Neustadt; VHS (am Schloss Landestrost), EG 01, Schlossstr. 1, 31535 Neustadt a. Rbge.
END:VEVENT
BEGIN:VEVENT
DTSTAMP:20260422T061311
DTSTART;TZID=Europe/Berlin:20271129T090000
DTEND;TZID=Europe/Berlin:20271129T160000
UID:271PL1003-20271129T090000@VHSZWECKVERBAND VHS HANNOVER LAND
DESCRIPTION:BU
SUMMARY:Systemische*r Berater*in (vhsConcept) Systemisch denken - systemisch handeln (271PL1003) 
LOCATION:Neustadt; VHS (am Schloss Landestrost), EG 01, Schlossstr. 1, 31535 Neustadt a. Rbge.
END:VEVENT
BEGIN:VEVENT
DTSTAMP:20260422T061311
DTSTART;TZID=Europe/Berlin:20271129T090000
DTEND;TZID=Europe/Berlin:20271129T160000
UID:271PL1003-20271129T090000@VHSZWECKVERBAND VHS HANNOVER LAND
DESCRIPTION:Doppeldozentur BU
SUMMARY:Systemische*r Berater*in (vhsConcept) Systemisch denken - systemisch handeln (271PL1003) 
LOCATION:Neustadt; VHS (am Schloss Landestrost), EG 01, Schlossstr. 1, 31535 Neustadt a. Rbge.
END:VEVENT
BEGIN:VEVENT
DTSTAMP:20260422T061311
DTSTART;TZID=Europe/Berlin:20271130T090000
DTEND;TZID=Europe/Berlin:20271130T160000
UID:271PL1003-20271130T090000@VHSZWECKVERBAND VHS HANNOVER LAND
DESCRIPTION:Doppeldozentur BU
SUMMARY:Systemische*r Berater*in (vhsConcept) Systemisch denken - systemisch handeln (271PL1003) 
LOCATION:Neustadt; VHS (am Schloss Landestrost), EG 01, Schlossstr. 1, 31535 Neustadt a. Rbge.
END:VEVENT
BEGIN:VEVENT
DTSTAMP:20260422T061311
DTSTART;TZID=Europe/Berlin:20271130T090000
DTEND;TZID=Europe/Berlin:20271130T160000
UID:271PL1003-20271130T090000@VHSZWECKVERBAND VHS HANNOVER LAND
DESCRIPTION:BU
SUMMARY:Systemische*r Berater*in (vhsConcept) Systemisch denken - systemisch handeln (271PL1003) 
LOCATION:Neustadt; VHS (am Schloss Landestrost), EG 01, Schlossstr. 1, 31535 Neustadt a. Rbge.
END:VEVENT
BEGIN:VEVENT
DTSTAMP:20260422T061311
DTSTART;TZID=Europe/Berlin:20271201T090000
DTEND;TZID=Europe/Berlin:20271201T160000
UID:271PL1003-20271201T090000@VHSZWECKVERBAND VHS HANNOVER LAND
DESCRIPTION:BU
SUMMARY:Systemische*r Berater*in (vhsConcept) Systemisch denken - systemisch handeln (271PL1003) 
LOCATION:Neustadt; VHS (am Schloss Landestrost), EG 01, Schlossstr. 1, 31535 Neustadt a. Rbge.
END:VEVENT
BEGIN:VEVENT
DTSTAMP:20260422T061311
DTSTART;TZID=Europe/Berlin:20271201T090000
DTEND;TZID=Europe/Berlin:20271201T160000
UID:271PL1003-20271201T090000@VHSZWECKVERBAND VHS HANNOVER LAND
DESCRIPTION:Doppeldozentur BU
SUMMARY:Systemische*r Berater*in (vhsConcept) Systemisch denken - systemisch handeln (271PL1003) 
LOCATION:Neustadt; VHS (am Schloss Landestrost), EG 01, Schlossstr. 1, 31535 Neustadt a. Rbge.
END:VEVENT
BEGIN:VEVENT
DTSTAMP:20260422T061311
DTSTART;TZID=Europe/Berlin:20271202T090000
DTEND;TZID=Europe/Berlin:20271202T160000
UID:271PL1003-20271202T090000@VHSZWECKVERBAND VHS HANNOVER LAND
DESCRIPTION:BU
SUMMARY:Systemische*r Berater*in (vhsConcept) Systemisch denken - systemisch handeln (271PL1003) 
LOCATION:Neustadt; VHS (am Schloss Landestrost), EG 01, Schlossstr. 1, 31535 Neustadt a. Rbge.
END:VEVENT
BEGIN:VEVENT
DTSTAMP:20260422T061311
DTSTART;TZID=Europe/Berlin:20271202T090000
DTEND;TZID=Europe/Berlin:20271202T160000
UID:271PL1003-20271202T090000@VHSZWECKVERBAND VHS HANNOVER LAND
DESCRIPTION:Doppeldozentur BU
SUMMARY:Systemische*r Berater*in (vhsConcept) Systemisch denken - systemisch handeln (271PL1003) 
LOCATION:Neustadt; VHS (am Schloss Landestrost), EG 01, Schlossstr. 1, 31535 Neustadt a. Rbge.
END:VEVENT
BEGIN:VEVENT
DTSTAMP:20260422T061311
DTSTART;TZID=Europe/Berlin:20271203T090000
DTEND;TZID=Europe/Berlin:20271203T160000
UID:271PL1003-20271203T090000@VHSZWECKVERBAND VHS HANNOVER LAND
DESCRIPTION:BU
SUMMARY:Systemische*r Berater*in (vhsConcept) Systemisch denken - systemisch handeln (271PL1003) 
LOCATION:Neustadt; VHS (am Schloss Landestrost), EG 01, Schlossstr. 1, 31535 Neustadt a. Rbge.
END:VEVENT
BEGIN:VEVENT
DTSTAMP:20260422T061311
DTSTART;TZID=Europe/Berlin:20271203T090000
DTEND;TZID=Europe/Berlin:20271203T160000
UID:271PL1003-20271203T090000@VHSZWECKVERBAND VHS HANNOVER LAND
DESCRIPTION:Doppeldozentur BU
SUMMARY:Systemische*r Berater*in (vhsConcept) Systemisch denken - systemisch handeln (271PL1003) 
LOCATION:Neustadt; VHS (am Schloss Landestrost), EG 01, Schlossstr. 1, 31535 Neustadt a. Rbge.
END:VEVENT
END:VCALENDAR